BEGIN:VCALENDAR
VERSION:2.0
PRODID:-//Musikkapelle Inzing - ECPv6.0.9//NONSGML v1.0//EN
CALSCALE:GREGORIAN
METHOD:PUBLISH
X-WR-CALNAME:Musikkapelle Inzing
X-ORIGINAL-URL:http://mk-inzing.at
X-WR-CALDESC:Veranstaltungen für Musikkapelle Inzing
REFRESH-INTERVAL;VALUE=DURATION:PT1H
X-Robots-Tag:noindex
X-PUBLISHED-TTL:PT1H
BEGIN:VTIMEZONE
TZID:Europe/Berlin
BEGIN:DAYLIGHT
TZOFFSETFROM:+0100
TZOFFSETTO:+0200
TZNAME:CEST
DTSTART:20210328T010000
END:DAYLIGHT
BEGIN:STANDARD
TZOFFSETFROM:+0200
TZOFFSETTO:+0100
TZNAME:CET
DTSTART:20211031T010000
END:STANDARD
END:VTIMEZONE
BEGIN:VEVENT
DTSTART;TZID=Europe/Berlin:20211204T200000
DTEND;TZID=Europe/Berlin:20211204T220000
DTSTAMP:20260424T215007
CREATED:20211103T181328Z
LAST-MODIFIED:20211103T181328Z
UID:6066-1638648000-1638655200@mk-inzing.at
SUMMARY:Operettenadvent in Matrei
DESCRIPTION:
URL:http://mk-inzing.at/kalender/operettenadvent-in-matrei/
END:VEVENT
BEGIN:VEVENT
DTSTART;TZID=Europe/Berlin:20211208T200000
DTEND;TZID=Europe/Berlin:20211208T220000
DTSTAMP:20260424T215007
CREATED:20211103T181528Z
LAST-MODIFIED:20211103T181528Z
UID:6068-1638993600-1639000800@mk-inzing.at
SUMMARY:Es wird scho glei dumpa
DESCRIPTION:
URL:http://mk-inzing.at/kalender/es-wird-scho-glei-dumpa-2/
END:VEVENT
END:VCALENDAR