BEGIN:VCALENDAR
VERSION:2.0
PRODID:-//Musikkapelle Inzing - ECPv6.0.9//NONSGML v1.0//EN
CALSCALE:GREGORIAN
METHOD:PUBLISH
X-ORIGINAL-URL:http://mk-inzing.at
X-WR-CALDESC:Veranstaltungen für Musikkapelle Inzing
REFRESH-INTERVAL;VALUE=DURATION:PT1H
X-Robots-Tag:noindex
X-PUBLISHED-TTL:PT1H
BEGIN:VTIMEZONE
TZID:Europe/Berlin
BEGIN:DAYLIGHT
TZOFFSETFROM:+0100
TZOFFSETTO:+0200
TZNAME:CEST
DTSTART:20210328T010000
END:DAYLIGHT
BEGIN:STANDARD
TZOFFSETFROM:+0200
TZOFFSETTO:+0100
TZNAME:CET
DTSTART:20211031T010000
END:STANDARD
END:VTIMEZONE
BEGIN:VEVENT
DTSTART;TZID=Europe/Berlin:20210914T200000
DTEND;TZID=Europe/Berlin:20210914T220000
DTSTAMP:20260424T172727
CREATED:20211006T182056Z
LAST-MODIFIED:20211006T182056Z
UID:6001-1631649600-1631656800@mk-inzing.at
SUMMARY:Vollprobe
DESCRIPTION:
URL:http://mk-inzing.at/kalender/vollprobe-79/
END:VEVENT
BEGIN:VEVENT
DTSTART;TZID=Europe/Berlin:20210921T183000
DTEND;TZID=Europe/Berlin:20210921T200000
DTSTAMP:20260424T172727
CREATED:20211006T182326Z
LAST-MODIFIED:20211006T182326Z
UID:6003-1632249000-1632254400@mk-inzing.at
SUMMARY:Teilprobe Holz
DESCRIPTION:
URL:http://mk-inzing.at/kalender/teilprobe-holz-5/
END:VEVENT
BEGIN:VEVENT
DTSTART;TZID=Europe/Berlin:20210921T200000
DTEND;TZID=Europe/Berlin:20210921T220000
DTSTAMP:20260424T172727
CREATED:20211006T182424Z
LAST-MODIFIED:20211006T182424Z
UID:6005-1632254400-1632261600@mk-inzing.at
SUMMARY:Vollprobe
DESCRIPTION:
URL:http://mk-inzing.at/kalender/vollprobe-80/
END:VEVENT
BEGIN:VEVENT
DTSTART;TZID=Europe/Berlin:20210924T180000
DTEND;TZID=Europe/Berlin:20210924T180000
DTSTAMP:20260424T172727
CREATED:20211006T182721Z
LAST-MODIFIED:20211006T182721Z
UID:6012-1632506400-1632506400@mk-inzing.at
SUMMARY:Öffentliche Jugendprobe
DESCRIPTION:
URL:http://mk-inzing.at/kalender/oeffentliche-jugendprobe/
END:VEVENT
BEGIN:VEVENT
DTSTART;TZID=Europe/Berlin:20210925T140000
DTEND;TZID=Europe/Berlin:20210925T140000
DTSTAMP:20260424T172727
CREATED:20211006T182542Z
LAST-MODIFIED:20211006T182555Z
UID:6007-1632578400-1632578400@mk-inzing.at
SUMMARY:Messgestaltung Hochzeitsjubiläen (kl. Gruppe)
DESCRIPTION:
URL:http://mk-inzing.at/kalender/messgestaltung-hochzeitsjubilaeen/
END:VEVENT
BEGIN:VEVENT
DTSTART;TZID=Europe/Berlin:20210925T160000
DTEND;TZID=Europe/Berlin:20210925T170000
DTSTAMP:20260424T172727
CREATED:20211006T182642Z
LAST-MODIFIED:20211006T182642Z
UID:6010-1632585600-1632589200@mk-inzing.at
SUMMARY:Messgestaltung Hochzeitsjubiläen (kl. Gruppe)
DESCRIPTION:
URL:http://mk-inzing.at/kalender/messgestaltung-hochzeitsjubilaeen-kl-gruppe/
END:VEVENT
BEGIN:VEVENT
DTSTART;TZID=Europe/Berlin:20210928T183000
DTEND;TZID=Europe/Berlin:20210928T200000
DTSTAMP:20260424T172727
CREATED:20211006T182803Z
LAST-MODIFIED:20211006T182803Z
UID:6014-1632853800-1632859200@mk-inzing.at
SUMMARY:Teilprobe Holz
DESCRIPTION:
URL:http://mk-inzing.at/kalender/teilprobe-holz-7/
END:VEVENT
BEGIN:VEVENT
DTSTART;TZID=Europe/Berlin:20210928T200000
DTEND;TZID=Europe/Berlin:20210928T220000
DTSTAMP:20260424T172727
CREATED:20211006T182844Z
LAST-MODIFIED:20211006T182844Z
UID:6016-1632859200-1632866400@mk-inzing.at
SUMMARY:Vollprobe
DESCRIPTION:
URL:http://mk-inzing.at/kalender/vollprobe-81/
END:VEVENT
END:VCALENDAR