BEGIN:VCALENDAR
VERSION:2.0
PRODID:-//Musikkapelle Inzing - ECPv6.0.9//NONSGML v1.0//EN
CALSCALE:GREGORIAN
METHOD:PUBLISH
X-WR-CALNAME:Musikkapelle Inzing
X-ORIGINAL-URL:http://mk-inzing.at
X-WR-CALDESC:Veranstaltungen für Musikkapelle Inzing
REFRESH-INTERVAL;VALUE=DURATION:PT1H
X-Robots-Tag:noindex
X-PUBLISHED-TTL:PT1H
BEGIN:VTIMEZONE
TZID:Europe/Berlin
BEGIN:DAYLIGHT
TZOFFSETFROM:+0100
TZOFFSETTO:+0200
TZNAME:CEST
DTSTART:20200329T010000
END:DAYLIGHT
BEGIN:STANDARD
TZOFFSETFROM:+0200
TZOFFSETTO:+0100
TZNAME:CET
DTSTART:20201025T010000
END:STANDARD
END:VTIMEZONE
BEGIN:VEVENT
DTSTART;TZID=Europe/Berlin:20201001T200000
DTEND;TZID=Europe/Berlin:20201001T220000
DTSTAMP:20260424T124540
CREATED:20200927T115137Z
LAST-MODIFIED:20200927T115137Z
UID:5857-1601582400-1601589600@mk-inzing.at
SUMMARY:Vollprobe
DESCRIPTION:
URL:http://mk-inzing.at/kalender/vollprobe-76/
END:VEVENT
BEGIN:VEVENT
DTSTART;TZID=Europe/Berlin:20201004T110000
DTEND;TZID=Europe/Berlin:20201004T140000
DTSTAMP:20260424T124540
CREATED:20200120T203101Z
LAST-MODIFIED:20200120T203101Z
UID:5623-1601809200-1601820000@mk-inzing.at
SUMMARY:Erntedank (kleine Gruppe) + Rosenkranzprozession
DESCRIPTION:Erntedank (kleine Gruppe) + Rosenkranzprozession
URL:http://mk-inzing.at/kalender/erntedank-kleine-gruppe-rosenkranzprozession/
END:VEVENT
BEGIN:VEVENT
DTSTART;TZID=Europe/Berlin:20201008T183000
DTEND;TZID=Europe/Berlin:20201008T220000
DTSTAMP:20260424T124540
CREATED:20200927T115219Z
LAST-MODIFIED:20200927T115219Z
UID:5859-1602181800-1602194400@mk-inzing.at
SUMMARY:Teilprobe Blech
DESCRIPTION:
URL:http://mk-inzing.at/kalender/teilprobe-blech-2/
END:VEVENT
BEGIN:VEVENT
DTSTART;TZID=Europe/Berlin:20201008T200000
DTEND;TZID=Europe/Berlin:20201008T220000
DTSTAMP:20260424T124540
CREATED:20200927T115240Z
LAST-MODIFIED:20200927T115240Z
UID:5861-1602187200-1602194400@mk-inzing.at
SUMMARY:Vollprobe
DESCRIPTION:
URL:http://mk-inzing.at/kalender/vollprobe-77/
END:VEVENT
BEGIN:VEVENT
DTSTART;TZID=Europe/Berlin:20201009T080000
DTEND;TZID=Europe/Berlin:20201009T170000
DTSTAMP:20260424T124540
CREATED:20200927T115319Z
LAST-MODIFIED:20200927T115319Z
UID:5863-1602230400-1602262800@mk-inzing.at
SUMMARY:Jubiläum Hospizgruppe Inzing (kleine Gruppe)
DESCRIPTION:
URL:http://mk-inzing.at/kalender/jubilaeum-hospizgruppe-inzing-kleine-gruppe/
END:VEVENT
BEGIN:VEVENT
DTSTART;TZID=Europe/Berlin:20201015T183000
DTEND;TZID=Europe/Berlin:20201015T200000
DTSTAMP:20260424T124540
CREATED:20200927T115400Z
LAST-MODIFIED:20200927T115400Z
UID:5865-1602786600-1602792000@mk-inzing.at
SUMMARY:Teilprobe Holz
DESCRIPTION:
URL:http://mk-inzing.at/kalender/teilprobe-holz-6/
END:VEVENT
BEGIN:VEVENT
DTSTART;TZID=Europe/Berlin:20201015T200000
DTEND;TZID=Europe/Berlin:20201015T200000
DTSTAMP:20260424T124540
CREATED:20200927T115441Z
LAST-MODIFIED:20201021T082522Z
UID:5867-1602792000-1602792000@mk-inzing.at
SUMMARY:Teilprobe Blech
DESCRIPTION:
URL:http://mk-inzing.at/kalender/vollprobe-78/
END:VEVENT
BEGIN:VEVENT
DTSTART;TZID=Europe/Berlin:20201029T190000
DTEND;TZID=Europe/Berlin:20201029T200000
DTSTAMP:20260424T124540
CREATED:20201202T100018Z
LAST-MODIFIED:20201202T100018Z
UID:5906-1603998000-1604001600@mk-inzing.at
SUMMARY:Probe in kleiner Gruppe
DESCRIPTION:
URL:http://mk-inzing.at/kalender/probe-in-kleiner-gruppe/
END:VEVENT
BEGIN:VEVENT
DTSTART;TZID=Europe/Berlin:20201029T200000
DTEND;TZID=Europe/Berlin:20201029T210000
DTSTAMP:20260424T124540
CREATED:20201202T100050Z
LAST-MODIFIED:20201202T100050Z
UID:5908-1604001600-1604005200@mk-inzing.at
SUMMARY:Probe in kleiner Gruppe
DESCRIPTION:
URL:http://mk-inzing.at/kalender/probe-in-kleiner-gruppe-2/
END:VEVENT
END:VCALENDAR