BEGIN:VCALENDAR
VERSION:2.0
PRODID:-//Musikkapelle Inzing - ECPv6.0.9//NONSGML v1.0//EN
CALSCALE:GREGORIAN
METHOD:PUBLISH
X-WR-CALNAME:Musikkapelle Inzing
X-ORIGINAL-URL:http://mk-inzing.at
X-WR-CALDESC:Veranstaltungen für Musikkapelle Inzing
REFRESH-INTERVAL;VALUE=DURATION:PT1H
X-Robots-Tag:noindex
X-PUBLISHED-TTL:PT1H
BEGIN:VTIMEZONE
TZID:Europe/Berlin
BEGIN:DAYLIGHT
TZOFFSETFROM:+0100
TZOFFSETTO:+0200
TZNAME:CEST
DTSTART:20200329T010000
END:DAYLIGHT
BEGIN:STANDARD
TZOFFSETFROM:+0200
TZOFFSETTO:+0100
TZNAME:CET
DTSTART:20201025T010000
END:STANDARD
END:VTIMEZONE
BEGIN:VEVENT
DTSTART;TZID=Europe/Berlin:20200910T200000
DTEND;TZID=Europe/Berlin:20200910T220000
DTSTAMP:20260424T111515
CREATED:20200927T114753Z
LAST-MODIFIED:20200927T114753Z
UID:5849-1599768000-1599775200@mk-inzing.at
SUMMARY:Vollprobe
DESCRIPTION:
URL:http://mk-inzing.at/kalender/vollprobe-73/
END:VEVENT
BEGIN:VEVENT
DTSTART;TZID=Europe/Berlin:20200917T200000
DTEND;TZID=Europe/Berlin:20200917T220000
DTSTAMP:20260424T111515
CREATED:20200927T114846Z
LAST-MODIFIED:20200927T114846Z
UID:5851-1600372800-1600380000@mk-inzing.at
SUMMARY:Vollprobe
DESCRIPTION:
URL:http://mk-inzing.at/kalender/vollprobe-74/
END:VEVENT
BEGIN:VEVENT
DTSTART;TZID=Europe/Berlin:20200924T200000
DTEND;TZID=Europe/Berlin:20200924T220000
DTSTAMP:20260424T111515
CREATED:20200927T115002Z
LAST-MODIFIED:20200927T115002Z
UID:5853-1600977600-1600984800@mk-inzing.at
SUMMARY:Vollprobe
DESCRIPTION:
URL:http://mk-inzing.at/kalender/vollprobe-75/
END:VEVENT
END:VCALENDAR