BEGIN:VCALENDAR
VERSION:2.0
PRODID:-//Musikkapelle Inzing - ECPv6.0.9//NONSGML v1.0//EN
CALSCALE:GREGORIAN
METHOD:PUBLISH
X-ORIGINAL-URL:http://mk-inzing.at
X-WR-CALDESC:Veranstaltungen für Musikkapelle Inzing
REFRESH-INTERVAL;VALUE=DURATION:PT1H
X-Robots-Tag:noindex
X-PUBLISHED-TTL:PT1H
BEGIN:VTIMEZONE
TZID:Europe/Berlin
BEGIN:DAYLIGHT
TZOFFSETFROM:+0100
TZOFFSETTO:+0200
TZNAME:CEST
DTSTART:20200329T010000
END:DAYLIGHT
BEGIN:STANDARD
TZOFFSETFROM:+0200
TZOFFSETTO:+0100
TZNAME:CET
DTSTART:20201025T010000
END:STANDARD
END:VTIMEZONE
BEGIN:VEVENT
DTSTART;TZID=Europe/Berlin:20200810T150000
DTEND;TZID=Europe/Berlin:20200810T170000
DTSTAMP:20260424T094324
CREATED:20200811T115521Z
LAST-MODIFIED:20200811T115521Z
UID:5846-1597071600-1597078800@mk-inzing.at
SUMMARY:Begräbnis Adi Gaßler
DESCRIPTION:
URL:http://mk-inzing.at/kalender/begraebnis-adi-gassler/
END:VEVENT
BEGIN:VEVENT
DTSTART;TZID=Europe/Berlin:20200815T080000
DTEND;TZID=Europe/Berlin:20200815T110000
DTSTAMP:20260424T094324
CREATED:20200120T202917Z
LAST-MODIFIED:20200120T202917Z
UID:5619-1597478400-1597489200@mk-inzing.at
SUMMARY:Maria Himmelfahrt (kleine Gruppe)
DESCRIPTION:Maria Himmelfahrt (kleine Gruppe)
URL:http://mk-inzing.at/kalender/maria-himmelfahrt-kleine-gruppe-2/
END:VEVENT
END:VCALENDAR