BEGIN:VCALENDAR
VERSION:2.0
PRODID:-//Musikkapelle Inzing - ECPv6.0.9//NONSGML v1.0//EN
CALSCALE:GREGORIAN
METHOD:PUBLISH
X-WR-CALNAME:Musikkapelle Inzing
X-ORIGINAL-URL:http://mk-inzing.at
X-WR-CALDESC:Veranstaltungen für Musikkapelle Inzing
REFRESH-INTERVAL;VALUE=DURATION:PT1H
X-Robots-Tag:noindex
X-PUBLISHED-TTL:PT1H
BEGIN:VTIMEZONE
TZID:Europe/Berlin
BEGIN:DAYLIGHT
TZOFFSETFROM:+0100
TZOFFSETTO:+0200
TZNAME:CEST
DTSTART:20190331T010000
END:DAYLIGHT
BEGIN:STANDARD
TZOFFSETFROM:+0200
TZOFFSETTO:+0100
TZNAME:CET
DTSTART:20191027T010000
END:STANDARD
END:VTIMEZONE
BEGIN:VEVENT
DTSTART;TZID=Europe/Berlin:20191101T080000
DTEND;TZID=Europe/Berlin:20191101T170000
DTSTAMP:20260423T141439
CREATED:20190215T153141Z
LAST-MODIFIED:20190215T153141Z
UID:3929-1572595200-1572627600@mk-inzing.at
SUMMARY:Allerheiligen
DESCRIPTION:Allerheiligen
URL:http://mk-inzing.at/kalender/allerheiligen-3/
END:VEVENT
BEGIN:VEVENT
DTSTART;TZID=Europe/Berlin:20191102T080000
DTEND;TZID=Europe/Berlin:20191102T130000
DTSTAMP:20260423T141439
CREATED:20191018T123002Z
LAST-MODIFIED:20191018T123002Z
UID:5311-1572681600-1572699600@mk-inzing.at
SUMMARY:Probentag
DESCRIPTION:Probentag
URL:http://mk-inzing.at/kalender/probentag-3/
END:VEVENT
BEGIN:VEVENT
DTSTART;TZID=Europe/Berlin:20191105T183000
DTEND;TZID=Europe/Berlin:20191105T220000
DTSTAMP:20260423T141439
CREATED:20190917T090730Z
LAST-MODIFIED:20190917T090730Z
UID:5212-1572978600-1572991200@mk-inzing.at
SUMMARY:Teilprobe Holz + Vollprobe
DESCRIPTION:Teilprobe Holz + Vollprobe
URL:http://mk-inzing.at/kalender/teilprobe-holz-vollprobe-6/
END:VEVENT
BEGIN:VEVENT
DTSTART;TZID=Europe/Berlin:20191108T183000
DTEND;TZID=Europe/Berlin:20191108T220000
DTSTAMP:20260423T141439
CREATED:20190917T090820Z
LAST-MODIFIED:20190917T090820Z
UID:5214-1573237800-1573250400@mk-inzing.at
SUMMARY:Teilprobe Blech + Vollprobe
DESCRIPTION:Teilprobe Blech + Vollprobe
URL:http://mk-inzing.at/kalender/teilprobe-blech-vollprobe-3/
END:VEVENT
BEGIN:VEVENT
DTSTART;TZID=Europe/Berlin:20191112T183000
DTEND;TZID=Europe/Berlin:20191112T220000
DTSTAMP:20260423T141439
CREATED:20190917T090900Z
LAST-MODIFIED:20190917T090900Z
UID:5216-1573583400-1573596000@mk-inzing.at
SUMMARY:Teilprobe Schlagzeug + Vollprobe
DESCRIPTION:Teilprobe Schlagzeug + Vollprobe
URL:http://mk-inzing.at/kalender/teilprobe-schlagzeug-vollprobe-3/
END:VEVENT
BEGIN:VEVENT
DTSTART;TZID=Europe/Berlin:20191114T200000
DTEND;TZID=Europe/Berlin:20191114T220000
DTSTAMP:20260423T141439
CREATED:20190215T153216Z
LAST-MODIFIED:20190215T153216Z
UID:3931-1573761600-1573768800@mk-inzing.at
SUMMARY:Generalprobe in Telfs
DESCRIPTION:Generalprobe in Telfs
URL:http://mk-inzing.at/kalender/generalprobe-in-telfs-2/
END:VEVENT
BEGIN:VEVENT
DTSTART;VALUE=DATE:20191116
DTEND;VALUE=DATE:20191117
DTSTAMP:20260423T141439
CREATED:20190215T153245Z
LAST-MODIFIED:20190215T153245Z
UID:3933-1573862400-1573948799@mk-inzing.at
SUMMARY:Cäcilia-Konzert
DESCRIPTION:Cäcilia-Konzert
URL:http://mk-inzing.at/kalender/caecilia-konzert-2/
END:VEVENT
END:VCALENDAR