BEGIN:VCALENDAR
VERSION:2.0
PRODID:-//Musikkapelle Inzing - ECPv6.0.9//NONSGML v1.0//EN
CALSCALE:GREGORIAN
METHOD:PUBLISH
X-WR-CALNAME:Musikkapelle Inzing
X-ORIGINAL-URL:http://mk-inzing.at
X-WR-CALDESC:Veranstaltungen für Musikkapelle Inzing
REFRESH-INTERVAL;VALUE=DURATION:PT1H
X-Robots-Tag:noindex
X-PUBLISHED-TTL:PT1H
BEGIN:VTIMEZONE
TZID:Europe/Berlin
BEGIN:DAYLIGHT
TZOFFSETFROM:+0100
TZOFFSETTO:+0200
TZNAME:CEST
DTSTART:20190331T010000
END:DAYLIGHT
BEGIN:STANDARD
TZOFFSETFROM:+0200
TZOFFSETTO:+0100
TZNAME:CET
DTSTART:20191027T010000
END:STANDARD
END:VTIMEZONE
BEGIN:VEVENT
DTSTART;TZID=Europe/Berlin:20191001T183000
DTEND;TZID=Europe/Berlin:20191001T220000
DTSTAMP:20260423T110059
CREATED:20190917T090043Z
LAST-MODIFIED:20190917T090043Z
UID:5198-1569954600-1569967200@mk-inzing.at
SUMMARY:Teilprobe Blech + Vollprobe
DESCRIPTION:Teilprobe Blech + Vollprobe
URL:http://mk-inzing.at/kalender/teilprobe-blech-vollprobe/
END:VEVENT
BEGIN:VEVENT
DTSTART;TZID=Europe/Berlin:20191006T080000
DTEND;TZID=Europe/Berlin:20191006T170000
DTSTAMP:20260423T110059
CREATED:20190215T153114Z
LAST-MODIFIED:20190215T153114Z
UID:3927-1570348800-1570381200@mk-inzing.at
SUMMARY:Rosenkranz-Prozession + Erntedank
DESCRIPTION:Rosenkranz-Prozession + Erntedank
URL:http://mk-inzing.at/kalender/rosenkranz-prozession-erntedank/
END:VEVENT
BEGIN:VEVENT
DTSTART;TZID=Europe/Berlin:20191010T183000
DTEND;TZID=Europe/Berlin:20191010T220000
DTSTAMP:20260423T110059
CREATED:20190917T090134Z
LAST-MODIFIED:20190917T090134Z
UID:5200-1570732200-1570744800@mk-inzing.at
SUMMARY:Teilprobe Schlagzeug + Vollprobe
DESCRIPTION:Teilprobe Schlagzeug + Vollprobe
URL:http://mk-inzing.at/kalender/teilprobe-schlagzeug-vollprobe/
END:VEVENT
BEGIN:VEVENT
DTSTART;TZID=Europe/Berlin:20191017T183000
DTEND;TZID=Europe/Berlin:20191017T220000
DTSTAMP:20260423T110059
CREATED:20190917T090207Z
LAST-MODIFIED:20190917T090207Z
UID:5202-1571337000-1571349600@mk-inzing.at
SUMMARY:Teilprobe Holz+ Vollprobe
DESCRIPTION:Teilprobe Holz+ Vollprobe
URL:http://mk-inzing.at/kalender/teilprobe-holz-vollprobe-3/
END:VEVENT
BEGIN:VEVENT
DTSTART;TZID=Europe/Berlin:20191022T183000
DTEND;TZID=Europe/Berlin:20191022T220000
DTSTAMP:20260423T110059
CREATED:20190917T090243Z
LAST-MODIFIED:20190917T090243Z
UID:5204-1571769000-1571781600@mk-inzing.at
SUMMARY:Teilprobe Holz+ Vollprobe
DESCRIPTION:Teilprobe Holz+ Vollprobe
URL:http://mk-inzing.at/kalender/teilprobe-holz-vollprobe-4/
END:VEVENT
BEGIN:VEVENT
DTSTART;TZID=Europe/Berlin:20191024T183000
DTEND;TZID=Europe/Berlin:20191024T220000
DTSTAMP:20260423T110059
CREATED:20190917T090421Z
LAST-MODIFIED:20190917T090421Z
UID:5206-1571941800-1571954400@mk-inzing.at
SUMMARY:Teilprobe Blech + Vollprobe
DESCRIPTION:Teilprobe Blech + Vollprobe
URL:http://mk-inzing.at/kalender/teilprobe-blech-vollprobe-2/
END:VEVENT
BEGIN:VEVENT
DTSTART;TZID=Europe/Berlin:20191029T183000
DTEND;TZID=Europe/Berlin:20191029T220000
DTSTAMP:20260423T110059
CREATED:20190917T090501Z
LAST-MODIFIED:20190917T090545Z
UID:5208-1572373800-1572386400@mk-inzing.at
SUMMARY:Teilprobe Schlagzeug + Vollprobe
DESCRIPTION:Teilprobe Schlagzeug + Vollprobe
URL:http://mk-inzing.at/kalender/teilprobe-schlagzeug-vollprobe-2/
END:VEVENT
BEGIN:VEVENT
DTSTART;TZID=Europe/Berlin:20191031T183000
DTEND;TZID=Europe/Berlin:20191031T220000
DTSTAMP:20260423T110059
CREATED:20190917T090629Z
LAST-MODIFIED:20190917T090629Z
UID:5210-1572546600-1572559200@mk-inzing.at
SUMMARY:Teilprobe Holz + Vollprobe
DESCRIPTION:Teilprobe Holz + Vollprobe
URL:http://mk-inzing.at/kalender/teilprobe-holz-vollprobe-5/
END:VEVENT
END:VCALENDAR