BEGIN:VCALENDAR
VERSION:2.0
PRODID:-//Musikkapelle Inzing - ECPv6.0.9//NONSGML v1.0//EN
CALSCALE:GREGORIAN
METHOD:PUBLISH
X-ORIGINAL-URL:http://mk-inzing.at
X-WR-CALDESC:Veranstaltungen für Musikkapelle Inzing
REFRESH-INTERVAL;VALUE=DURATION:PT1H
X-Robots-Tag:noindex
X-PUBLISHED-TTL:PT1H
BEGIN:VTIMEZONE
TZID:Europe/Berlin
BEGIN:DAYLIGHT
TZOFFSETFROM:+0100
TZOFFSETTO:+0200
TZNAME:CEST
DTSTART:20190331T010000
END:DAYLIGHT
BEGIN:STANDARD
TZOFFSETFROM:+0200
TZOFFSETTO:+0100
TZNAME:CET
DTSTART:20191027T010000
END:STANDARD
END:VTIMEZONE
BEGIN:VEVENT
DTSTART;TZID=Europe/Berlin:20190702T200000
DTEND;TZID=Europe/Berlin:20190702T220000
DTSTAMP:20260421T213201
CREATED:20190215T152459Z
LAST-MODIFIED:20190215T152459Z
UID:3907-1562097600-1562104800@mk-inzing.at
SUMMARY:Vollprobe
DESCRIPTION:Vollprobe
URL:http://mk-inzing.at/kalender/vollprobe-62/
END:VEVENT
BEGIN:VEVENT
DTSTART;TZID=Europe/Berlin:20190706T080000
DTEND;TZID=Europe/Berlin:20190706T170000
DTSTAMP:20260421T213201
CREATED:20190215T152531Z
LAST-MODIFIED:20190215T152531Z
UID:3909-1562400000-1562432400@mk-inzing.at
SUMMARY:Bezirksmusikfest (Nachmittag der Jugend)
DESCRIPTION:Bezirksmusikfest (Nachmittag der Jugend)
URL:http://mk-inzing.at/kalender/bezirksmusikfest-nachmittag-der-jugend/
END:VEVENT
BEGIN:VEVENT
DTSTART;TZID=Europe/Berlin:20190707T080000
DTEND;TZID=Europe/Berlin:20190707T170000
DTSTAMP:20260421T213201
CREATED:20190215T152558Z
LAST-MODIFIED:20190215T152558Z
UID:3911-1562486400-1562518800@mk-inzing.at
SUMMARY:Bezirksmusikfest
DESCRIPTION:Bezirksmusikfest
URL:http://mk-inzing.at/kalender/bezirksmusikfest/
END:VEVENT
BEGIN:VEVENT
DTSTART;TZID=Europe/Berlin:20190709T200000
DTEND;TZID=Europe/Berlin:20190709T220000
DTSTAMP:20260421T213201
CREATED:20190708T155328Z
LAST-MODIFIED:20190708T155436Z
UID:4977-1562702400-1562709600@mk-inzing.at
SUMMARY:Vollprobe
DESCRIPTION:
URL:http://mk-inzing.at/kalender/vollprobe-55/
END:VEVENT
BEGIN:VEVENT
DTSTART;TZID=Europe/Berlin:20190711T080000
DTEND;TZID=Europe/Berlin:20190711T170000
DTSTAMP:20260421T213201
CREATED:20190215T152659Z
LAST-MODIFIED:20190215T152659Z
UID:3913-1562832000-1562864400@mk-inzing.at
SUMMARY:Geb.-Standl Steger Martin (60)
DESCRIPTION:Geb.-Standl Steger Martin (60)
URL:http://mk-inzing.at/kalender/geb-standl-steger-martin-60/
END:VEVENT
BEGIN:VEVENT
DTSTART;TZID=Europe/Berlin:20190723T200000
DTEND;TZID=Europe/Berlin:20190723T220000
DTSTAMP:20260421T213201
CREATED:20190708T155620Z
LAST-MODIFIED:20190708T155620Z
UID:4979-1563912000-1563919200@mk-inzing.at
SUMMARY:Vollprobe
DESCRIPTION:
URL:http://mk-inzing.at/kalender/vollprobe-64/
END:VEVENT
BEGIN:VEVENT
DTSTART;TZID=Europe/Berlin:20190725T200000
DTEND;TZID=Europe/Berlin:20190725T220000
DTSTAMP:20260421T213201
CREATED:20190215T152734Z
LAST-MODIFIED:20190215T152734Z
UID:3915-1564084800-1564092000@mk-inzing.at
SUMMARY:Vollprobe
DESCRIPTION:Vollprobe
URL:http://mk-inzing.at/kalender/vollprobe-63/
END:VEVENT
BEGIN:VEVENT
DTSTART;TZID=Europe/Berlin:20190727T080000
DTEND;TZID=Europe/Berlin:20190727T170000
DTSTAMP:20260421T213201
CREATED:20190215T152811Z
LAST-MODIFIED:20190215T152811Z
UID:3917-1564214400-1564246800@mk-inzing.at
SUMMARY:Matreier Freinacht (Einmarsch + Gastkonzert)
DESCRIPTION:Matreier Freinacht (Einmarsch + Gastkonzert)
URL:http://mk-inzing.at/kalender/matreier-freinacht-einmarsch-gastkonzert/
END:VEVENT
END:VCALENDAR