BEGIN:VCALENDAR
VERSION:2.0
PRODID:-//Musikkapelle Inzing - ECPv6.0.9//NONSGML v1.0//EN
CALSCALE:GREGORIAN
METHOD:PUBLISH
X-ORIGINAL-URL:http://mk-inzing.at
X-WR-CALDESC:Veranstaltungen für Musikkapelle Inzing
REFRESH-INTERVAL;VALUE=DURATION:PT1H
X-Robots-Tag:noindex
X-PUBLISHED-TTL:PT1H
BEGIN:VTIMEZONE
TZID:Europe/Berlin
BEGIN:DAYLIGHT
TZOFFSETFROM:+0100
TZOFFSETTO:+0200
TZNAME:CEST
DTSTART:20190331T010000
END:DAYLIGHT
BEGIN:STANDARD
TZOFFSETFROM:+0200
TZOFFSETTO:+0100
TZNAME:CET
DTSTART:20191027T010000
END:STANDARD
END:VTIMEZONE
BEGIN:VEVENT
DTSTART;TZID=Europe/Berlin:20190618T200000
DTEND;TZID=Europe/Berlin:20190618T220000
DTSTAMP:20260421T182702
CREATED:20190215T152238Z
LAST-MODIFIED:20190215T152238Z
UID:3899-1560888000-1560895200@mk-inzing.at
SUMMARY:Vollprobe
DESCRIPTION:Vollprobe
URL:http://mk-inzing.at/kalender/vollprobe-60/
END:VEVENT
BEGIN:VEVENT
DTSTART;TZID=Europe/Berlin:20190620T080000
DTEND;TZID=Europe/Berlin:20190620T170000
DTSTAMP:20260421T182702
CREATED:20190215T152308Z
LAST-MODIFIED:20190215T152308Z
UID:3901-1561017600-1561050000@mk-inzing.at
SUMMARY:Fronleichnam-Prozession
DESCRIPTION:Fronleichnam-Prozession
URL:http://mk-inzing.at/kalender/fronleichnam-prozession-3/
END:VEVENT
BEGIN:VEVENT
DTSTART;TZID=Europe/Berlin:20190627T200000
DTEND;TZID=Europe/Berlin:20190627T220000
DTSTAMP:20260421T182702
CREATED:20190215T152348Z
LAST-MODIFIED:20190215T152348Z
UID:3903-1561665600-1561672800@mk-inzing.at
SUMMARY:Vollprobe
DESCRIPTION:Vollprobe
URL:http://mk-inzing.at/kalender/vollprobe-61/
END:VEVENT
BEGIN:VEVENT
DTSTART;TZID=Europe/Berlin:20190629T080000
DTEND;TZID=Europe/Berlin:20190629T170000
DTSTAMP:20260421T182702
CREATED:20190215T152420Z
LAST-MODIFIED:20190215T152420Z
UID:3905-1561795200-1561827600@mk-inzing.at
SUMMARY:Herz-Jesu-Prozession
DESCRIPTION:Herz-Jesu-Prozession
URL:http://mk-inzing.at/kalender/herz-jesu-prozession-3/
END:VEVENT
END:VCALENDAR