BEGIN:VCALENDAR
VERSION:2.0
PRODID:-//Musikkapelle Inzing - ECPv6.0.9//NONSGML v1.0//EN
CALSCALE:GREGORIAN
METHOD:PUBLISH
X-ORIGINAL-URL:http://mk-inzing.at
X-WR-CALDESC:Veranstaltungen für Musikkapelle Inzing
REFRESH-INTERVAL;VALUE=DURATION:PT1H
X-Robots-Tag:noindex
X-PUBLISHED-TTL:PT1H
BEGIN:VTIMEZONE
TZID:Europe/Berlin
BEGIN:DAYLIGHT
TZOFFSETFROM:+0100
TZOFFSETTO:+0200
TZNAME:CEST
DTSTART:20200329T010000
END:DAYLIGHT
BEGIN:STANDARD
TZOFFSETFROM:+0200
TZOFFSETTO:+0100
TZNAME:CET
DTSTART:20201025T010000
END:STANDARD
END:VTIMEZONE
BEGIN:VEVENT
DTSTART;TZID=Europe/Berlin:20200203T200000
DTEND;TZID=Europe/Berlin:20200203T210000
DTSTAMP:20260424T031647
CREATED:20200120T201310Z
LAST-MODIFIED:20200120T201310Z
UID:5586-1580760000-1580763600@mk-inzing.at
SUMMARY:Geb.-Standl Bürgermeister Josef Walch
DESCRIPTION:Geb.-Standl Bürgermeister Josef Walch
URL:http://mk-inzing.at/kalender/geb-standl-buergermeister-josef-walch-2/
END:VEVENT
END:VCALENDAR