BEGIN:VCALENDAR
VERSION:2.0
PRODID:-//Musikkapelle Inzing - ECPv6.0.9//NONSGML v1.0//EN
CALSCALE:GREGORIAN
METHOD:PUBLISH
X-ORIGINAL-URL:http://mk-inzing.at
X-WR-CALDESC:Veranstaltungen für Musikkapelle Inzing
REFRESH-INTERVAL;VALUE=DURATION:PT1H
X-Robots-Tag:noindex
X-PUBLISHED-TTL:PT1H
BEGIN:VTIMEZONE
TZID:Europe/Berlin
BEGIN:DAYLIGHT
TZOFFSETFROM:+0100
TZOFFSETTO:+0200
TZNAME:CEST
DTSTART:20190331T010000
END:DAYLIGHT
BEGIN:STANDARD
TZOFFSETFROM:+0200
TZOFFSETTO:+0100
TZNAME:CET
DTSTART:20191027T010000
END:STANDARD
END:VTIMEZONE
BEGIN:VEVENT
DTSTART;TZID=Europe/Berlin:20190505T080000
DTEND;TZID=Europe/Berlin:20190505T170000
DTSTAMP:20260421T180916
CREATED:20190215T151611Z
LAST-MODIFIED:20190215T151611Z
UID:3877-1557043200-1557075600@mk-inzing.at
SUMMARY:Floriani + 125 Jahr Jubiläum der FF Inzing
DESCRIPTION:Floriani + 125 Jahr Jubiläum der FF Inzing
URL:http://mk-inzing.at/kalender/floriani-125-jahr-jubilaeum-der-ff-inzing/
END:VEVENT
END:VCALENDAR